BEGIN:VCALENDAR
VERSION:2.0
PRODID:-//The Arc of Gaston County - ECPv6.15.17//NONSGML v1.0//EN
CALSCALE:GREGORIAN
METHOD:PUBLISH
X-WR-CALNAME:The Arc of Gaston County
X-ORIGINAL-URL:https://gastoncountyarc.org
X-WR-CALDESC:Events for The Arc of Gaston County
REFRESH-INTERVAL;VALUE=DURATION:PT1H
X-Robots-Tag:noindex
X-PUBLISHED-TTL:PT1H
BEGIN:VTIMEZONE
TZID:America/New_York
BEGIN:DAYLIGHT
TZOFFSETFROM:-0500
TZOFFSETTO:-0400
TZNAME:EDT
DTSTART:20130310T070000
END:DAYLIGHT
BEGIN:STANDARD
TZOFFSETFROM:-0400
TZOFFSETTO:-0500
TZNAME:EST
DTSTART:20131103T060000
END:STANDARD
BEGIN:DAYLIGHT
TZOFFSETFROM:-0500
TZOFFSETTO:-0400
TZNAME:EDT
DTSTART:20140309T070000
END:DAYLIGHT
BEGIN:STANDARD
TZOFFSETFROM:-0400
TZOFFSETTO:-0500
TZNAME:EST
DTSTART:20141102T060000
END:STANDARD
BEGIN:DAYLIGHT
TZOFFSETFROM:-0500
TZOFFSETTO:-0400
TZNAME:EDT
DTSTART:20150308T070000
END:DAYLIGHT
BEGIN:STANDARD
TZOFFSETFROM:-0400
TZOFFSETTO:-0500
TZNAME:EST
DTSTART:20151101T060000
END:STANDARD
END:VTIMEZONE
BEGIN:VEVENT
DTSTART;TZID=America/New_York:20141118T120000
DTEND;TZID=America/New_York:20141118T133000
DTSTAMP:20260419T170840
CREATED:20141023T162738Z
LAST-MODIFIED:20141023T162738Z
UID:259-1416312000-1416317400@gastoncountyarc.org
SUMMARY:Arc Board Meeting
DESCRIPTION:
URL:https://gastoncountyarc.org/event/arc-board-meeting/
CATEGORIES:Meetings
END:VEVENT
END:VCALENDAR