BEGIN:VCALENDAR
VERSION:2.0
PRODID:-//The Arc of Gaston County - ECPv6.15.17//NONSGML v1.0//EN
CALSCALE:GREGORIAN
METHOD:PUBLISH
X-WR-CALNAME:The Arc of Gaston County
X-ORIGINAL-URL:https://gastoncountyarc.org
X-WR-CALDESC:Events for The Arc of Gaston County
REFRESH-INTERVAL;VALUE=DURATION:PT1H
X-Robots-Tag:noindex
X-PUBLISHED-TTL:PT1H
BEGIN:VTIMEZONE
TZID:America/New_York
BEGIN:DAYLIGHT
TZOFFSETFROM:-0500
TZOFFSETTO:-0400
TZNAME:EDT
DTSTART:20130310T070000
END:DAYLIGHT
BEGIN:STANDARD
TZOFFSETFROM:-0400
TZOFFSETTO:-0500
TZNAME:EST
DTSTART:20131103T060000
END:STANDARD
BEGIN:DAYLIGHT
TZOFFSETFROM:-0500
TZOFFSETTO:-0400
TZNAME:EDT
DTSTART:20140309T070000
END:DAYLIGHT
BEGIN:STANDARD
TZOFFSETFROM:-0400
TZOFFSETTO:-0500
TZNAME:EST
DTSTART:20141102T060000
END:STANDARD
BEGIN:DAYLIGHT
TZOFFSETFROM:-0500
TZOFFSETTO:-0400
TZNAME:EDT
DTSTART:20150308T070000
END:DAYLIGHT
BEGIN:STANDARD
TZOFFSETFROM:-0400
TZOFFSETTO:-0500
TZNAME:EST
DTSTART:20151101T060000
END:STANDARD
END:VTIMEZONE
BEGIN:VEVENT
DTSTART;TZID=America/New_York:20141117T180000
DTEND;TZID=America/New_York:20141117T203000
DTSTAMP:20260425T125324
CREATED:20141023T184552Z
LAST-MODIFIED:20141023T184615Z
UID:270-1416247200-1416256200@gastoncountyarc.org
SUMMARY:Dinner Presentation "A Special Needs Plan"
DESCRIPTION:Ryan Platt from A Special Needs Plan\, Inc. will be presenting some vital information about the importance of planning ahead for the financial future of your child with special needs.  A light dinner will be served.
URL:https://gastoncountyarc.org/event/dinner-presentation-special-needs-plan/
LOCATION:NC
END:VEVENT
BEGIN:VEVENT
DTSTART;VALUE=DATE:20140618
DTEND;VALUE=DATE:20140619
DTSTAMP:20260425T125324
CREATED:20141022T133415Z
LAST-MODIFIED:20141022T133415Z
UID:244-1403049600-1403135999@gastoncountyarc.org
SUMMARY:Kamp Kaleidoscope 2014
DESCRIPTION:A daily summer camp dedicated to citizens with developmental disabilities.
URL:https://gastoncountyarc.org/event/kamp-kaleidoscope-2014/
LOCATION:St Mark’s Episcopal Church\, 258 West Franklin Boulevard\, Gastonia\, NC\, 28052\, United States
CATEGORIES:Events
ORGANIZER;CN="Unnamed Organizer":MAILTO:kamp@gastoncountyarc.org
END:VEVENT
BEGIN:VEVENT
DTSTART;TZID=America/New_York:20140614T150000
DTEND;TZID=America/New_York:20140614T173000
DTSTAMP:20260425T125324
CREATED:20141022T133624Z
LAST-MODIFIED:20141022T133624Z
UID:247-1402758000-1402767000@gastoncountyarc.org
SUMMARY:25th Anniversary Celebrity Ballgame
DESCRIPTION:Join us at the ballpark as we celebrate with community leaders\, special guests\, and The Grizzlies!
URL:https://gastoncountyarc.org/event/25th-anniversary-celebrity-ballgame/
LOCATION:Sims Legion Park\, Gastonia\, NC\, United States
CATEGORIES:Events
ORGANIZER;CN="The Arc of Gaston County":MAILTO:ballgame@gastoncountyarc.org
END:VEVENT
END:VCALENDAR